Workbook

Sheet Staza (m)
A1: FINALE KUPA ZA MLAĐE JUNIORE Kruševac, 7-8.09.2019. Drugi dan
A3: 200m M 1. grupa Vetar –1,8
A4: Plasman | B4: Staza | C4: St. br. | D4: Prezime i ime | E4: God. rođ. | F4: Klub | G4: Rezultat
A5: 1 | B5: 4 | C5: 340 | D5: Čanak Jovan | E5: 02 | F5: VNS | G5: 24.1
A6: 2 | B6: 3 | C6: 177 | D6: Tadić Nemanja | E6: 03 | F6: CER | G6: 24.15
A7: 3 | B7: 5 | C7: 308 | D7: Jurošević Lazar | E7: 03 | F7: MLZ | G7: 24.49
A8: 4 | B8: 6 | C8: 348 | D8: Orlović Luka | E8: 03 | F8: VNS | G8: 24.55
A9: 5 | B9: 2 | C9: 350 | D9: Ristanović Luka | E9: 03 | F9: VNS | G9: 24.66
B10: 7 | C10: 289 | D10: Čikić Damjan | E10: 03 | F10: PAP | G10: NS
A12: 200m M 2. grupa Vetar –1,4
A13: Plasman | B13: Staza | C13: St. br. | D13: Prezime i ime | E13: God. rođ. | F13: Klub | G13: Rezultat
A14: 1 | B14: 4 | C14: 189 | D14: Kaljuš Stefan | E14: 03 | F14: CZB | G14: 23.1
A15: 2 | B15: 3 | C15: 490 | D15: Dostanić Nemanja | E15: 03 | F15: MLZ | G15: 23.44
A16: 3 | B16: 5 | C16: 278 | D16: Popović Andrija | E16: 03 | F16: KRA | G16: 23.58
A17: 4 | B17: 6 | C17: 417 | D17: Popović Uroš | E17: 03 | F17: ŽNI | G17: 23.86
A18: 5 | B18: 2 | C18: 254 | D18: Vidojković Bogdan | E18: 03 | F18: CZB | G18: 24.19
B19: 7 | C19: 471 | D19: Milanović Srećko | E19: 02 | F19: MOĆ | G19: NS
A21: 200m M Ukupno
A22: Plasman | C22: St. br. | D22: Prezime i ime | E22: God. rođ. | F22: Klub | G22: Rezultat | H22: Bodovi
A23: 1 | C23: 189 | D23: Kaljuš Stefan | E23: 03 | F23: CZB | G23: 23.1 | H23: 12
A24: 2 | C24: 490 | D24: Dostanić Nemanja | E24: 03 | F24: MLZ | G24: 23.44 | H24: 11
A25: 3 | C25: 278 | D25: Popović Andrija | E25: 03 | F25: KRA | G25: 23.58 | H25: 10
A26: 4 | C26: 417 | D26: Popović Uroš | E26: 03 | F26: ŽNI | G26: 23.86 | H26: 9
A27: 5 | C27: 340 | D27: Čanak Jovan | E27: 02 | F27: VNS | G27: 24.1 | H27: 8
A28: 6 | C28: 177 | D28: Tadić Nemanja | E28: 03 | F28: CER | G28: 24.15 | H28: 7
A29: 7 | C29: 254 | D29: Vidojković Bogdan | E29: 03 | F29: CZB | G29: 24.19 | H29: 6
A30: 8 | C30: 308 | D30: Jurošević Lazar | E30: 03 | F30: MLZ | G30: 24.49 | H30: 5
A31: 9 | C31: 348 | D31: Orlović Luka | E31: 03 | F31: VNS | G31: 24.55 | H31: 4
A32: 10 | C32: 350 | D32: Ristanović Luka | E32: 03 | F32: VNS | G32: 24.66 | H32: 3
C33: 289 | D33: Čikić Damjan | E33: 03 | F33: PAP | G33: NS
C34: 471 | D34: Milanović Srećko | E34: 02 | F34: MOĆ | G34: NS
A36: 800m M
A37: Plasman | B37: Staza | C37: St. br. | D37: Prezime i ime | E37: God. rođ. | F37: Klub | G37: Rezultat | H37: Bodovi
A38: 1 | B38: 5 | C38: 409 | D38: Mojsa Boris | E38: 03 | F38: SOP | G38: 0.0013436343 | H38: 12
A39: 2 | B39: 4 | C39: 470 | D39: Milanović Aleksa | E39: 02 | F39: MOĆ | G39: 0.0013438657 | H39: 11
A40: 3 | B40: 5 | C40: 473 | D40: Tomić Aleksa | E40: 03 | F40: MOĆ | G40: 0.0014232639 | H40: 10
A41: 4 | B41: 2 | C41: 281 | D41: Vukelja Nikola | E41: 03 | F41: MKŠ | G41: 0.0014292824 | H41: 9
A42: 5 | B42: 3 | C42: 450 | D42: Gagić Vojislav | E42: 03 | F42: PRZ | G42: 0.0014385417 | H42: 8
A43: 6 | B43: 3 | C43: 260 | D43: Stevšić Strahinja | E43: 04 | F43: DIP | G43: 0.0014510417 | H43: 7
A44: 7 | B44: 1 | C44: 290 | D44: Dugić Aleksandar | E44: 03 | F44: PAP | G44: 0.0016446759 | H44: 6
...

Sheet Staza (ž)
A1: FINALE KUPA ZA MLAĐE JUNIORE Kruševac, 7-8.09.2019. Drugi dan
A3: 200m Ž 1. grupa Vetar -2,0
A4: Plasman | B4: Staza | C4: St. br. | D4: Prezime i ime | E4: God. rođ. | F4: Klub | G4: Rezultat
A5: 1 | B5: 1 | C5: 258 | D5: Mrkela Anastasija | E5: 03 | F5: DIP | G5: 28.13
A6: 2 | B6: 8 | C6: 415 | D6: Atanasković Katarina | E6: 02 | F6: ŽNI | G6: 29.12
B7: 3 | C7: 282 | D7: Bojanić Katarina | E7: 04 | F7: MLD | G7: NS
B8: 5 | C8: 259 | D8: Mrkela Marija | E8: 05 | F8: DIP | G8: NS
B9: 6 | C9: 244 | D9: Stokić Lena | E9: 05 | F9: CZB | G9: NS
B10: 7 | C10: 452 | D10: Kašaš Anastasija | E10: 04 | F10: PRZ | G10: NS
A12: 200m Ž 2. grupa Vetar -
A13: Plasman | B13: Staza | C13: St. br. | D13: Prezime i ime | E13: God. rođ. | F13: Klub | G13: Rezultat
A14: 1 | B14: 5 | C14: 61 | D14: Ilić Ivana | E14: 02 | F14: ČAČ | G14: 25.53
A15: 2 | B15: 4 | C15: 113 | D15: Sremac Andrea | E15: 03 | F15: ASZ | G15: 25.71
A16: 3 | B16: 3 | C16: 322 | D16: Japundžić Tijana | E16: 02 | F16: P45 | G16: 25.81
A17: 4 | B17: 7 | C17: 347 | D17: Miča Anastasija | E17: 03 | F17: VNS | G17: 26.78
A18: 5 | B18: 6 | C18: 486 | D18: Živković Daria | E18: 05 | F18: KRU | G18: 26.87
A19: 6 | B19: 2 | C19: 403 | D19: Milanović Vanja | E19: 05 | F19: SIR | G19: 27.43
A21: 200m Ž Ukupno
A22: Plasman | C22: St. br. | D22: Prezime i ime | E22: God. rođ. | F22: Klub | G22: Rezultat | H22: Bodovi
A23: 1 | C23: 61 | D23: Ilić Ivana | E23: 02 | F23: ČAČ | G23: 25.53 | H23: 12
A24: 2 | C24: 113 | D24: Sremac Andrea | E24: 03 | F24: ASZ | G24: 25.71 | H24: 11
A25: 3 | C25: 322 | D25: Japundžić Tijana | E25: 02 | F25: P45 | G25: 25.81 | H25: 10
A26: 4 | C26: 347 | D26: Miča Anastasija | E26: 03 | F26: VNS | G26: 26.78 | H26: 9
A27: 5 | C27: 486 | D27: Živković Daria | E27: 05 | F27: KRU | G27: 26.87 | H27: 8
A28: 6 | C28: 403 | D28: Milanović Vanja | E28: 05 | F28: SIR | G28: 27.43 | H28: 7
A29: 7 | C29: 258 | D29: Mrkela Anastasija | E29: 03 | F29: DIP | G29: 28.13 | H29: 6
A30: 8 | C30: 415 | D30: Atanasković Katarina | E30: 02 | F30: ŽNI | G30: 29.12 | H30: 5
C31: 282 | D31: Bojanić Katarina | E31: 04 | F31: MLD | G31: NS
C32: 259 | D32: Mrkela Marija | E32: 05 | F32: DIP | G32: NS
C33: 244 | D33: Stokić Lena | E33: 05 | F33: CZB | G33: NS
C34: 452 | D34: Kašaš Anastasija | E34: 04 | F34: PRZ | G34: NS
A36: 800m Ž
A37: Plasman | B37: Staza | C37: St. br. | D37: Prezime i ime | E37: God. rođ. | F37: Klub | G37: Rezultat | H37: Bodovi
A38: 1 | B38: 5 | C38: 284 | D38: Maletić Iva | E38: 03 | F38: MZA | G38: 0.001618287 | H38: 12
A39: 2 | B39: 4 | C39: 173 | D39: Sikima Dunja | E39: 05 | F39: BNZ | G39: 0.0016188657 | H39: 11
A40: 3 | B40: 3 | C40: 442 | D40: Stojanović Kristina | E40: 04 | F40: POŽ | G40: 0.0016650463 | H40: 10
A41: 4 | B41: 6 | C41: 239 | D41: Radin Tamara | E41: 03 | F41: CZB | G41: 0.0016925926 | H41: 9
A42: 5 | B42: 2 | C42: 315 | D42: Stanković Sofija | E42: 03 | F42: MLZ | G42: 0.001716088 | H42: 8
A43: 6 | B43: 7 | C43: 296 | D43: Arsenijević Iva | E43: 04 | F43: PRĆ | G43: 0.0017362269 | H43: 7
A44: 7 | B44: 3 | C44: 439 | D44: Rogožarski Katarina | E44: 05 | F44: POŽ | G44: 0.0018041667 | H44: 6
...

Sheet Skokovi, bacanja (m-ž)
A1: FINALE KUPA ZA MLAĐE JUNIORE Kruševac, 7-8.09.2019. Drugi dan
A3: Troskok M
A4: Plasman | B4: St. br. | C4: Prezime i ime | D4: God. rođ. | E4: Klub | F4: Rezultat | G4: Bodovi
A5: 1 | B5: 341 | C5: Čanak Petar | D5: 02 | E5: VNS | F5: 14,11 (+0,0) | G5: 12
A6: 2 | B6: 306 | C6: Ilić Nikola | D6: 03 | E6: MLZ | F6: 13,06 (+0,0) | G6: 11
A7: 3 | B7: 340 | C7: Čanak Jovan | D7: 02 | E7: VNS | F7: 12,73 (+0,0) | G7: 10
A8: 4 | B8: 307 | C8: Isailović Tomislav | D8: 02 | E8: MLZ | F8: 12,65 (+0,2) | G8: 9
A9: 5 | B9: 184 | C9: Jovanović Milutin | D9: 03 | E9: CZB | F9: 12,60 (+0,0) | G9: 8
A10: 6 | B10: 417 | C10: Popović Uroš | D10: 03 | E10: ŽNI | F10: 12,26 (+0,0) | G10: 7
A11: 7 | B11: 425 | C11: Hajrudinović Denis | D11: 03 | E11: TGM | F11: 12,11 (+0,0) | G11: 6
A12: 8 | B12: 394 | C12: Savić Pavle | D12: 02 | E12: MLZ | F12: 12,03 (+0,0) | G12: 5
A13: 9 | B13: 247 | C13: Vasiljević Dimitrije | D13: 03 | E13: CZB | F13: 10,80 (+0,0) | G13: 4
A15: Bacanje koplja (700gr) M
A16: Plasman | B16: St. br. | C16: Prezime i ime | D16: God. rođ. | E16: Klub | F16: Rezultat | G16: Bodovi
A17: 1 | B17: 261 | C17: Živanov Aleksa | D17: 03 | E17: DIP | F17: 52.62 | G17: 12
A18: 2 | B18: 175 | C18: Bakić Viktor | D18: 02 | E18: CER | F18: 51.46 | G18: 11
A19: 3 | B19: 346 | C19: Marić Marko | D19: 04 | E19: VNS | F19: 42.38 | G19: 10
A20: 4 | B20: 307 | C20: Isailović Tomislav | D20: 02 | E20: MLZ | F20: 41.78 | G20: 9
A21: 5 | B21: 429 | C21: Josipović Veljko | D21: 03 | E21: TJB | F21: 40.41 | G21: 8
A22: 6 | B22: 264 | C22: Tanasijević Nikola | D22: 02 | E22: ESP | F22: 36.48 | G22: 7
A23: 7 | B23: 355 | C23: Stranić Jovan | D23: 04 | E23: VNS | F23: 34.42 | G23: 6
A24: 8 | B24: 254 | C24: Vidojković Bogdan | D24: 03 | E24: CZB | F24: 33.32 | G24: 5
A25: 9 | B25: 394 | C25: Savić Pavle | D25: 02 | E25: MLZ | F25: 30.43 | G25: 4
A26: 10 | B26: 485 | C26: Terzić Nikola | D26: 04 | E26: KRU | F26: 30.27 | G26: 3
B27: 481 | C27: Slavković Marko | D27: 04 | E27: KRU | F27: NS
B28: 412 | C28: Rosić Veljko | D28: 05 | E28: SPB | F28: NS
A30: Bacanje diska (1,5kg) M
A31: Plasman | B31: St. br. | C31: Prezime i ime | D31: God. rođ. | E31: Klub | F31: Rezultat | G31: Bodovi
A32: 1 | B32: 475 | C32: Bahtijarević Nikola | D32: 02 | E32: KRU | F32: 44.91 | G32: 12
A33: 2 | B33: 426 | C33: Obradović Dositej | D33: 03 | E33: TGM | F33: 42.5 | G33: 11
A34: 3 | B34: 399 | C34: Ilić Petar | D34: 03 | E34: RUM | F34: 41.2 | G34: 10
A35: 4 | B35: 355 | C35: Stranić Jovan | D35: 04 | E35: VNS | F35: 41.06 | G35: 9
A36: 5 | B36: 261 | C36: Živanov Aleksa | D36: 03 | E36: DIP | F36: 35.98 | G36: 8
A37: 6 | B37: 485 | C37: Terzić Nikola | D37: 04 | E37: KRU | F37: 34.98 | G37: 7
A38: 7 | B38: 275 | C38: Marinković Aleksa | D38: 03 | E38: KRA | F38: 31.88 | G38: 6
A39: 8 | B39: 175 | C39: Bakić Viktor | D39: 02 | E39: CER | F39: 29.73 | G39: 5
A40: 9 | B40: 491 | C40: Đaković Matija | D40: 03 | E40: MLZ | F40: 25.16 | G40: 4
A41: 10 | B41: 472 | C41: Radojković Andrej | D41: 03 | E41: MOĆ | F41: 24.01 | G41: 3
A42: 11 | B42: 306 | C42: Ilić Nikola | D42: 03 | E42: MLZ | F42: 23.27 | G42: 2
B43: 481 | C43: Slavković Marko | D43: 04 | E43: KRU | F43: NS
...

Sheet Drugi dan (m)
A1: FINALE KUPA ZA MLAĐE JUNIORE Kruševac, 7-8.09.2019. Drugi dan
A3: Plasman | B3: Klub | C3: Prvi dan | D3: 200m M | E3: 800m M | F3: 3000m M | G3: 400m pr M | H3: Štafeta | I3: Troskok M | J3: Koplje M | K3: Disk M | L3: Drugi dan | M3: Ukupno
A4: 1 | B4: MLZ | C4: 128 | D4: =SUMIF('Staza (m)'!$F$23:$F$34,B4,'Staza (m)'!$H$23:$H$34) -> 16 | E4: =SUMIF('Staza (m)'!$F$38:$F$49,B4,'Staza (m)'!$H$38:$H$49) -> 0 | F4: =SUMIF('Staza (m)'!$F$53:$F$57,B4,'Staza (m)'!$H$53:$H$57) -> 9 | G4: =SUMIF('Staza (m)'!$F$61:$F$65,B4,'Staza (m)'!$H$61:$H$65) -> 28 | H4: =SUMIF('Staza (m)'!$F$69:$F$76,B4,'Staza (m)'!$H$69:$H$76) -> 20 | I4: =SUMIF('Skokovi, bacanja (m-ž)'!$E$5:$E$13,B4,'Skokovi, bacanja (m-ž)'!$G$5:$G$13) -> 25 | J4: =SUMIF('Skokovi, bacanja (m-ž)'!$E$17:$E$28,B4,'Skokovi, bacanja (m-ž)'!$G$17:$G$28) -> 13 | K4: =SUMIF('Skokovi, bacanja (m-ž)'!$E$32:$E$44,B4,'Skokovi, bacanja (m-ž)'!$G$32:$G$44) -> 6 | L4: =SUM(D4:K4) -> 117 | M4: =C4+L4 -> 245
A5: 2 | B5: VNS | C5: 95 | D5: =SUMIF('Staza (m)'!$F$23:$F$34,B5,'Staza (m)'!$H$23:$H$34) -> 15 | E5: =SUMIF('Staza (m)'!$F$38:$F$49,B5,'Staza (m)'!$H$38:$H$49) -> 0 | F5: =SUMIF('Staza (m)'!$F$53:$F$57,B5,'Staza (m)'!$H$53:$H$57) -> 0 | G5: =SUMIF('Staza (m)'!$F$61:$F$65,B5,'Staza (m)'!$H$61:$H$65) -> 0 | H5: =SUMIF('Staza (m)'!$F$69:$F$76,B5,'Staza (m)'!$H$69:$H$76) -> 10 | I5: =SUMIF('Skokovi, bacanja (m-ž)'!$E$5:$E$13,B5,'Skokovi, bacanja (m-ž)'!$G$5:$G$13) -> 22 | J5: =SUMIF('Skokovi, bacanja (m-ž)'!$E$17:$E$28,B5,'Skokovi, bacanja (m-ž)'!$G$17:$G$28) -> 16 | K5: =SUMIF('Skokovi, bacanja (m-ž)'!$E$32:$E$44,B5,'Skokovi, bacanja (m-ž)'!$G$32:$G$44) -> 9 | L5: =SUM(D5:K5) -> 72 | M5: =C5+L5 -> 167
A6: 3 | B6: CZB | C6: 71 | D6: =SUMIF('Staza (m)'!$F$23:$F$34,B6,'Staza (m)'!$H$23:$H$34) -> 18 | E6: =SUMIF('Staza (m)'!$F$38:$F$49,B6,'Staza (m)'!$H$38:$H$49) -> 0 | F6: =SUMIF('Staza (m)'!$F$53:$F$57,B6,'Staza (m)'!$H$53:$H$57) -> 0 | G6: =SUMIF('Staza (m)'!$F$61:$F$65,B6,'Staza (m)'!$H$61:$H$65) -> 0 | H6: =SUMIF('Staza (m)'!$F$69:$F$76,B6,'Staza (m)'!$H$69:$H$76) -> 11 | I6: =SUMIF('Skokovi, bacanja (m-ž)'!$E$5:$E$13,B6,'Skokovi, bacanja (m-ž)'!$G$5:$G$13) -> 12 | J6: =SUMIF('Skokovi, bacanja (m-ž)'!$E$17:$E$28,B6,'Skokovi, bacanja (m-ž)'!$G$17:$G$28) -> 5 | K6: =SUMIF('Skokovi, bacanja (m-ž)'!$E$32:$E$44,B6,'Skokovi, bacanja (m-ž)'!$G$32:$G$44) -> 0 | L6: =SUM(D6:K6) -> 46 | M6: =C6+L6 -> 117
A7: 4 | B7: KRU | C7: 62 | D7: =SUMIF('Staza (m)'!$F$23:$F$34,B7,'Staza (m)'!$H$23:$H$34) -> 0 | E7: =SUMIF('Staza (m)'!$F$38:$F$49,B7,'Staza (m)'!$H$38:$H$49) -> 0 | F7: =SUMIF('Staza (m)'!$F$53:$F$57,B7,'Staza (m)'!$H$53:$H$57) -> 0 | G7: =SUMIF('Staza (m)'!$F$61:$F$65,B7,'Staza (m)'!$H$61:$H$65) -> 0 | H7: =SUMIF('Staza (m)'!$F$69:$F$76,B7,'Staza (m)'!$H$69:$H$76) -> 0 | I7: =SUMIF('Skokovi, bacanja (m-ž)'!$E$5:$E$13,B7,'Skokovi, bacanja (m-ž)'!$G$5:$G$13) -> 0 | J7: =SUMIF('Skokovi, bacanja (m-ž)'!$E$17:$E$28,B7,'Skokovi, bacanja (m-ž)'!$G$17:$G$28) -> 3 | K7: =SUMIF('Skokovi, bacanja (m-ž)'!$E$32:$E$44,B7,'Skokovi, bacanja (m-ž)'!$G$32:$G$44) -> 19 | L7: =SUM(D7:K7) -> 22 | M7: =C7+L7 -> 84
A8: 5 | B8: KRA | C8: 44 | D8: =SUMIF('Staza (m)'!$F$23:$F$34,B8,'Staza (m)'!$H$23:$H$34) -> 10 | E8: =SUMIF('Staza (m)'!$F$38:$F$49,B8,'Staza (m)'!$H$38:$H$49) -> 0 | F8: =SUMIF('Staza (m)'!$F$53:$F$57,B8,'Staza (m)'!$H$53:$H$57) -> 0 | G8: =SUMIF('Staza (m)'!$F$61:$F$65,B8,'Staza (m)'!$H$61:$H$65) -> 10 | H8: =SUMIF('Staza (m)'!$F$69:$F$76,B8,'Staza (m)'!$H$69:$H$76) -> 9 | I8: =SUMIF('Skokovi, bacanja (m-ž)'!$E$5:$E$13,B8,'Skokovi, bacanja (m-ž)'!$G$5:$G$13) -> 0 | J8: =SUMIF('Skokovi, bacanja (m-ž)'!$E$17:$E$28,B8,'Skokovi, bacanja (m-ž)'!$G$17:$G$28) -> 0 | K8: =SUMIF('Skokovi, bacanja (m-ž)'!$E$32:$E$44,B8,'Skokovi, bacanja (m-ž)'!$G$32:$G$44) -> 6 | L8: =SUM(D8:K8) -> 35 | M8: =C8+L8 -> 79
A9: 6 | B9: CER | C9: 36 | D9: =SUMIF('Staza (m)'!$F$23:$F$34,B9,'Staza (m)'!$H$23:$H$34) -> 7 | E9: =SUMIF('Staza (m)'!$F$38:$F$49,B9,'Staza (m)'!$H$38:$H$49) -> 0 | F9: =SUMIF('Staza (m)'!$F$53:$F$57,B9,'Staza (m)'!$H$53:$H$57) -> 11 | G9: =SUMIF('Staza (m)'!$F$61:$F$65,B9,'Staza (m)'!$H$61:$H$65) -> 0 | H9: =SUMIF('Staza (m)'!$F$69:$F$76,B9,'Staza (m)'!$H$69:$H$76) -> 0 | I9: =SUMIF('Skokovi, bacanja (m-ž)'!$E$5:$E$13,B9,'Skokovi, bacanja (m-ž)'!$G$5:$G$13) -> 0 | J9: =SUMIF('Skokovi, bacanja (m-ž)'!$E$17:$E$28,B9,'Skokovi, bacanja (m-ž)'!$G$17:$G$28) -> 11 | K9: =SUMIF('Skokovi, bacanja (m-ž)'!$E$32:$E$44,B9,'Skokovi, bacanja (m-ž)'!$G$32:$G$44) -> 5 | L9: =SUM(D9:K9) -> 34 | M9: =C9+L9 -> 70
A10: 7 | B10: MOĆ | C10: 27 | D10: =SUMIF('Staza (m)'!$F$23:$F$34,B10,'Staza (m)'!$H$23:$H$34) -> 0 | E10: =SUMIF('Staza (m)'!$F$38:$F$49,B10,'Staza (m)'!$H$38:$H$49) -> 21 | F10: =SUMIF('Staza (m)'!$F$53:$F$57,B10,'Staza (m)'!$H$53:$H$57) -> 0 | G10: =SUMIF('Staza (m)'!$F$61:$F$65,B10,'Staza (m)'!$H$61:$H$65) -> 0 | H10: =SUMIF('Staza (m)'!$F$69:$F$76,B10,'Staza (m)'!$H$69:$H$76) -> 0 | I10: =SUMIF('Skokovi, bacanja (m-ž)'!$E$5:$E$13,B10,'Skokovi, bacanja (m-ž)'!$G$5:$G$13) -> 0 | J10: =SUMIF('Skokovi, bacanja (m-ž)'!$E$17:$E$28,B10,'Skokovi, bacanja (m-ž)'!$G$17:$G$28) -> 0 | K10: =SUMIF('Skokovi, bacanja (m-ž)'!$E$32:$E$44,B10,'Skokovi, bacanja (m-ž)'!$G$32:$G$44) -> 3 | L10: =SUM(D10:K10) -> 24 | M10: =C10+L10 -> 51
A11: 8 | B11: SOP | C11: 22 | D11: =SUMIF('Staza (m)'!$F$23:$F$34,B11,'Staza (m)'!$H$23:$H$34) -> 0 | E11: =SUMIF('Staza (m)'!$F$38:$F$49,B11,'Staza (m)'!$H$38:$H$49) -> 12 | F11: =SUMIF('Staza (m)'!$F$53:$F$57,B11,'Staza (m)'!$H$53:$H$57) -> 0 | G11: =SUMIF('Staza (m)'!$F$61:$F$65,B11,'Staza (m)'!$H$61:$H$65) -> 0 | H11: =SUMIF('Staza (m)'!$F$69:$F$76,B11,'Staza (m)'!$H$69:$H$76) -> 0 | I11: =SUMIF('Skokovi, bacanja (m-ž)'!$E$5:$E$13,B11,'Skokovi, bacanja (m-ž)'!$G$5:$G$13) -> 0 | J11: =SUMIF('Skokovi, bacanja (m-ž)'!$E$17:$E$28,B11,'Skokovi, bacanja (m-ž)'!$G$17:$G$28) -> 0 | K11: =SUMIF('Skokovi, bacanja (m-ž)'!$E$32:$E$44,B11,'Skokovi, bacanja (m-ž)'!$G$32:$G$44) -> 0 | L11: =SUM(D11:K11) -> 12 | M11: =C11+L11 -> 34
A12: 9 | B12: POP | C12: 30 | D12: =SUMIF('Staza (m)'!$F$23:$F$34,B12,'Staza (m)'!$H$23:$H$34) -> 0 | E12: =SUMIF('Staza (m)'!$F$38:$F$49,B12,'Staza (m)'!$H$38:$H$49) -> 0 | F12: =SUMIF('Staza (m)'!$F$53:$F$57,B12,'Staza (m)'!$H$53:$H$57) -> 0 | G12: =SUMIF('Staza (m)'!$F$61:$F$65,B12,'Staza (m)'!$H$61:$H$65) -> 0 | H12: =SUMIF('Staza (m)'!$F$69:$F$76,B12,'Staza (m)'!$H$69:$H$76) -> 0 | I12: =SUMIF('Skokovi, bacanja (m-ž)'!$E$5:$E$13,B12,'Skokovi, bacanja (m-ž)'!$G$5:$G$13) -> 0 | J12: =SUMIF('Skokovi, bacanja (m-ž)'!$E$17:$E$28,B12,'Skokovi, bacanja (m-ž)'!$G$17:$G$28) -> 0 | K12: =SUMIF('Skokovi, bacanja (m-ž)'!$E$32:$E$44,B12,'Skokovi, bacanja (m-ž)'!$G$32:$G$44) -> 0 | L12: =SUM(D12:K12) -> 0 | M12: =C12+L12 -> 30
A13: 10 | B13: DIP | C13: 3 | D13: =SUMIF('Staza (m)'!$F$23:$F$34,B13,'Staza (m)'!$H$23:$H$34) -> 0 | E13: =SUMIF('Staza (m)'!$F$38:$F$49,B13,'Staza (m)'!$H$38:$H$49) -> 7 | F13: =SUMIF('Staza (m)'!$F$53:$F$57,B13,'Staza (m)'!$H$53:$H$57) -> 0 | G13: =SUMIF('Staza (m)'!$F$61:$F$65,B13,'Staza (m)'!$H$61:$H$65) -> 0 | H13: =SUMIF('Staza (m)'!$F$69:$F$76,B13,'Staza (m)'!$H$69:$H$76) -> 0 | I13: =SUMIF('Skokovi, bacanja (m-ž)'!$E$5:$E$13,B13,'Skokovi, bacanja (m-ž)'!$G$5:$G$13) -> 0 | J13: =SUMIF('Skokovi, bacanja (m-ž)'!$E$17:$E$28,B13,'Skokovi, bacanja (m-ž)'!$G$17:$G$28) -> 12 | K13: =SUMIF('Skokovi, bacanja (m-ž)'!$E$32:$E$44,B13,'Skokovi, bacanja (m-ž)'!$G$32:$G$44) -> 8 | L13: =SUM(D13:K13) -> 27 | M13: =C13+L13 -> 30
A14: 11 | B14: P45 | C14: 17 | D14: =SUMIF('Staza (m)'!$F$23:$F$34,B14,'Staza (m)'!$H$23:$H$34) -> 0 | E14: =SUMIF('Staza (m)'!$F$38:$F$49,B14,'Staza (m)'!$H$38:$H$49) -> 0 | F14: =SUMIF('Staza (m)'!$F$53:$F$57,B14,'Staza (m)'!$H$53:$H$57) -> 0 | G14: =SUMIF('Staza (m)'!$F$61:$F$65,B14,'Staza (m)'!$H$61:$H$65) -> 12 | H14: =SUMIF('Staza (m)'!$F$69:$F$76,B14,'Staza (m)'!$H$69:$H$76) -> 0 | I14: =SUMIF('Skokovi, bacanja (m-ž)'!$E$5:$E$13,B14,'Skokovi, bacanja (m-ž)'!$G$5:$G$13) -> 0 | J14: =SUMIF('Skokovi, bacanja (m-ž)'!$E$17:$E$28,B14,'Skokovi, bacanja (m-ž)'!$G$17:$G$28) -> 0 | K14: =SUMIF('Skokovi, bacanja (m-ž)'!$E$32:$E$44,B14,'Skokovi, bacanja (m-ž)'!$G$32:$G$44) -> 0 | L14: =SUM(D14:K14) -> 12 | M14: =C14+L14 -> 29
A15: 12 | B15: SPB | C15: 28 | D15: =SUMIF('Staza (m)'!$F$23:$F$34,B15,'Staza (m)'!$H$23:$H$34) -> 0 | E15: =SUMIF('Staza (m)'!$F$38:$F$49,B15,'Staza (m)'!$H$38:$H$49) -> 0 | F15: =SUMIF('Staza (m)'!$F$53:$F$57,B15,'Staza (m)'!$H$53:$H$57) -> 0 | G15: =SUMIF('Staza (m)'!$F$61:$F$65,B15,'Staza (m)'!$H$61:$H$65) -> 0 | H15: =SUMIF('Staza (m)'!$F$69:$F$76,B15,'Staza (m)'!$H$69:$H$76) -> 0 | I15: =SUMIF('Skokovi, bacanja (m-ž)'!$E$5:$E$13,B15,'Skokovi, bacanja (m-ž)'!$G$5:$G$13) -> 0 | J15: =SUMIF('Skokovi, bacanja (m-ž)'!$E$17:$E$28,B15,'Skokovi, bacanja (m-ž)'!$G$17:$G$28) -> 0 | K15: =SUMIF('Skokovi, bacanja (m-ž)'!$E$32:$E$44,B15,'Skokovi, bacanja (m-ž)'!$G$32:$G$44) -> 0 | L15: =SUM(D15:K15) -> 0 | M15: =C15+L15 -> 28
... A29: 26 | B29: PAP | C29: 0 | D29: =SUMIF('Staza (m)'!$F$23:$F$34,B29,'Staza (m)'!$H$23:$H$34) -> 0 | E29: =SUMIF('Staza (m)'!$F$38:$F$49,B29,'Staza (m)'!$H$38:$H$49) -> 6 | F29: =SUMIF('Staza (m)'!$F$53:$F$57,B29,'Staza (m)'!$H$53:$H$57) -> 0 | G29: =SUMIF('Staza (m)'!$F$61:$F$65,B29,'Staza (m)'!$H$61:$H$65) -> 0 | H29: =SUMIF('Staza (m)'!$F$69:$F$76,B29,'Staza (m)'!$H$69:$H$76) -> 0 | I29: =SUMIF('Skokovi, bacanja (m-ž)'!$E$5:$E$13,B29,'Skokovi, bacanja (m-ž)'!$G$5:$G$13) -> 0 | J29: =SUMIF('Skokovi, bacanja (m-ž)'!$E$17:$E$28,B29,'Skokovi, bacanja (m-ž)'!$G$17:$G$28) -> 0 | K29: =SUMIF('Skokovi, bacanja (m-ž)'!$E$32:$E$44,B29,'Skokovi, bacanja (m-ž)'!$G$32:$G$44) -> 0 | L29: =SUM(D29:K29) -> 6 | M29: =C29+L29 -> 6
B30: ABB | C30: 0 | D30: =SUMIF('Staza (m)'!$F$23:$F$34,B30,'Staza (m)'!$H$23:$H$34) -> 0 | E30: =SUMIF('Staza (m)'!$F$38:$F$49,B30,'Staza (m)'!$H$38:$H$49) -> 0 | F30: =SUMIF('Staza (m)'!$F$53:$F$57,B30,'Staza (m)'!$H$53:$H$57) -> 0 | G30: =SUMIF('Staza (m)'!$F$61:$F$65,B30,'Staza (m)'!$H$61:$H$65) -> 0 | H30: =SUMIF('Staza (m)'!$F$69:$F$76,B30,'Staza (m)'!$H$69:$H$76) -> 0 | I30: =SUMIF('Skokovi, bacanja (m-ž)'!$E$5:$E$13,B30,'Skokovi, bacanja (m-ž)'!$G$5:$G$13) -> 0 | J30: =SUMIF('Skokovi, bacanja (m-ž)'!$E$17:$E$28,B30,'Skokovi, bacanja (m-ž)'!$G$17:$G$28) -> 0 | K30: =SUMIF('Skokovi, bacanja (m-ž)'!$E$32:$E$44,B30,'Skokovi, bacanja (m-ž)'!$G$32:$G$44) -> 0 | L30: =SUM(D30:K30) -> 0 | M30: =C30+L30 -> 0
B31: AŠKT | C31: 0 | D31: =SUMIF('Staza (m)'!$F$23:$F$34,B31,'Staza (m)'!$H$23:$H$34) -> 0 | E31: =SUMIF('Staza (m)'!$F$38:$F$49,B31,'Staza (m)'!$H$38:$H$49) -> 0 | F31: =SUMIF('Staza (m)'!$F$53:$F$57,B31,'Staza (m)'!$H$53:$H$57) -> 0 | G31: =SUMIF('Staza (m)'!$F$61:$F$65,B31,'Staza (m)'!$H$61:$H$65) -> 0 | H31: =SUMIF('Staza (m)'!$F$69:$F$76,B31,'Staza (m)'!$H$69:$H$76) -> 0 | I31: =SUMIF('Skokovi, bacanja (m-ž)'!$E$5:$E$13,B31,'Skokovi, bacanja (m-ž)'!$G$5:$G$13) -> 0 | J31: =SUMIF('Skokovi, bacanja (m-ž)'!$E$17:$E$28,B31,'Skokovi, bacanja (m-ž)'!$G$17:$G$28) -> 0 | K31: =SUMIF('Skokovi, bacanja (m-ž)'!$E$32:$E$44,B31,'Skokovi, bacanja (m-ž)'!$G$32:$G$44) -> 0 | L31: =SUM(D31:K31) -> 0 | M31: =C31+L31 -> 0
B32: NBG | C32: 0 | D32: =SUMIF('Staza (m)'!$F$23:$F$34,B32,'Staza (m)'!$H$23:$H$34) -> 0 | E32: =SUMIF('Staza (m)'!$F$38:$F$49,B32,'Staza (m)'!$H$38:$H$49) -> 0 | F32: =SUMIF('Staza (m)'!$F$53:$F$57,B32,'Staza (m)'!$H$53:$H$57) -> 0 | G32: =SUMIF('Staza (m)'!$F$61:$F$65,B32,'Staza (m)'!$H$61:$H$65) -> 0 | H32: =SUMIF('Staza (m)'!$F$69:$F$76,B32,'Staza (m)'!$H$69:$H$76) -> 0 | I32: =SUMIF('Skokovi, bacanja (m-ž)'!$E$5:$E$13,B32,'Skokovi, bacanja (m-ž)'!$G$5:$G$13) -> 0 | J32: =SUMIF('Skokovi, bacanja (m-ž)'!$E$17:$E$28,B32,'Skokovi, bacanja (m-ž)'!$G$17:$G$28) -> 0 | K32: =SUMIF('Skokovi, bacanja (m-ž)'!$E$32:$E$44,B32,'Skokovi, bacanja (m-ž)'!$G$32:$G$44) -> 0 | L32: =SUM(D32:K32) -> 0 | M32: =C32+L32 -> 0

Sheet Drugi dan (ž)
A1: FINALE KUPA ZA MLAĐE JUNIORE Kruševac, 7-8.09.2019. Drugi dan
A3: Plasman | B3: Klub | C3: Prvi dan | D3: 200m Ž | E3: 800m Ž | F3: 3000m Ž | G3: 400m pr Ž | H3: 2000m Hodanje Ž | I3: Štafeta | J3: Vis Ž | K3: Dalj Ž | L3: Kugla Ž | M3: Kladivo Ž | N3: Drugi dan | O3: Ukupno
A4: 2 | B4: P45 | C4: 139 | D4: =SUMIF('Staza (ž)'!$F$23:$F$34,B4,'Staza (ž)'!$H$23:$H$34) -> 10 | E4: =SUMIF('Staza (ž)'!$F$38:$F$49,B4,'Staza (ž)'!$H$38:$H$49) -> 0 | F4: =SUMIF('Staza (ž)'!$F$53:$F$57,B4,'Staza (ž)'!$H$53:$H$57) -> 0 | G4: =SUMIF('Staza (ž)'!$F$79:$F$90,B4,'Staza (ž)'!$H$79:$H$90) -> 28 | H4: =SUMIF('Staza (ž)'!$F$94:$F$101,B4,'Staza (ž)'!$H$94:$H$101) -> 0 | I4: =SUMIF('Staza (ž)'!$F$105:$F$112,B4,'Staza (ž)'!$H$105:$H$112) -> 20 | J4: =SUMIF('Skokovi, bacanja (m-ž)'!$E$48:$E$60,B4,'Skokovi, bacanja (m-ž)'!$G$48:$G$60) -> 6 | K4: =SUMIF('Skokovi, bacanja (m-ž)'!$E$64:$E$75,B4,'Skokovi, bacanja (m-ž)'!$G$64:$G$75) -> 0 | L4: =SUMIF('Skokovi, bacanja (m-ž)'!$E$79:$E$90,B4,'Skokovi, bacanja (m-ž)'!$G$79:$G$90) -> 12 | M4: =SUMIF('Skokovi, bacanja (m-ž)'!$E$94:$E$101,B4,'Skokovi, bacanja (m-ž)'!$G$94:$G$101) -> 10 | N4: =SUM(D4:M4) -> 86 | O4: =C4+N4 -> 225
A5: 1 | B5: VNS | C5: 124 | D5: =SUMIF('Staza (ž)'!$F$23:$F$34,B5,'Staza (ž)'!$H$23:$H$34) -> 9 | E5: =SUMIF('Staza (ž)'!$F$38:$F$49,B5,'Staza (ž)'!$H$38:$H$49) -> 6 | F5: =SUMIF('Staza (ž)'!$F$53:$F$57,B5,'Staza (ž)'!$H$53:$H$57) -> 0 | G5: =SUMIF('Staza (ž)'!$F$79:$F$90,B5,'Staza (ž)'!$H$79:$H$90) -> 0 | H5: =SUMIF('Staza (ž)'!$F$94:$F$101,B5,'Staza (ž)'!$H$94:$H$101) -> 0 | I5: =SUMIF('Staza (ž)'!$F$105:$F$112,B5,'Staza (ž)'!$H$105:$H$112) -> 12 | J5: =SUMIF('Skokovi, bacanja (m-ž)'!$E$48:$E$60,B5,'Skokovi, bacanja (m-ž)'!$G$48:$G$60) -> 15 | K5: =SUMIF('Skokovi, bacanja (m-ž)'!$E$64:$E$75,B5,'Skokovi, bacanja (m-ž)'!$G$64:$G$75) -> 43 | L5: =SUMIF('Skokovi, bacanja (m-ž)'!$E$79:$E$90,B5,'Skokovi, bacanja (m-ž)'!$G$79:$G$90) -> 10 | M5: =SUMIF('Skokovi, bacanja (m-ž)'!$E$94:$E$101,B5,'Skokovi, bacanja (m-ž)'!$G$94:$G$101) -> 0 | N5: =SUM(D5:M5) -> 95 | O5: =C5+N5 -> 219
A6: 3 | B6: KRU | C6: 38 | D6: =SUMIF('Staza (ž)'!$F$23:$F$34,B6,'Staza (ž)'!$H$23:$H$34) -> 8 | E6: =SUMIF('Staza (ž)'!$F$38:$F$49,B6,'Staza (ž)'!$H$38:$H$49) -> 0 | F6: =SUMIF('Staza (ž)'!$F$53:$F$57,B6,'Staza (ž)'!$H$53:$H$57) -> 0 | G6: =SUMIF('Staza (ž)'!$F$79:$F$90,B6,'Staza (ž)'!$H$79:$H$90) -> 0 | H6: =SUMIF('Staza (ž)'!$F$94:$F$101,B6,'Staza (ž)'!$H$94:$H$101) -> 32 | I6: =SUMIF('Staza (ž)'!$F$105:$F$112,B6,'Staza (ž)'!$H$105:$H$112) -> 10 | J6: =SUMIF('Skokovi, bacanja (m-ž)'!$E$48:$E$60,B6,'Skokovi, bacanja (m-ž)'!$G$48:$G$60) -> 0 | K6: =SUMIF('Skokovi, bacanja (m-ž)'!$E$64:$E$75,B6,'Skokovi, bacanja (m-ž)'!$G$64:$G$75) -> 0 | L6: =SUMIF('Skokovi, bacanja (m-ž)'!$E$79:$E$90,B6,'Skokovi, bacanja (m-ž)'!$G$79:$G$90) -> 7 | M6: =SUMIF('Skokovi, bacanja (m-ž)'!$E$94:$E$101,B6,'Skokovi, bacanja (m-ž)'!$G$94:$G$101) -> 11 | N6: =SUM(D6:M6) -> 68 | O6: =C6+N6 -> 106
A7: 4 | B7: MLZ | C7: 32 | D7: =SUMIF('Staza (ž)'!$F$23:$F$34,B7,'Staza (ž)'!$H$23:$H$34) -> 0 | E7: =SUMIF('Staza (ž)'!$F$38:$F$49,B7,'Staza (ž)'!$H$38:$H$49) -> 8 | F7: =SUMIF('Staza (ž)'!$F$53:$F$57,B7,'Staza (ž)'!$H$53:$H$57) -> 0 | G7: =SUMIF('Staza (ž)'!$F$79:$F$90,B7,'Staza (ž)'!$H$79:$H$90) -> 9 | H7: =SUMIF('Staza (ž)'!$F$94:$F$101,B7,'Staza (ž)'!$H$94:$H$101) -> 0 | I7: =SUMIF('Staza (ž)'!$F$105:$F$112,B7,'Staza (ž)'!$H$105:$H$112) -> 8 | J7: =SUMIF('Skokovi, bacanja (m-ž)'!$E$48:$E$60,B7,'Skokovi, bacanja (m-ž)'!$G$48:$G$60) -> 11 | K7: =SUMIF('Skokovi, bacanja (m-ž)'!$E$64:$E$75,B7,'Skokovi, bacanja (m-ž)'!$G$64:$G$75) -> 2 | L7: =SUMIF('Skokovi, bacanja (m-ž)'!$E$79:$E$90,B7,'Skokovi, bacanja (m-ž)'!$G$79:$G$90) -> 0 | M7: =SUMIF('Skokovi, bacanja (m-ž)'!$E$94:$E$101,B7,'Skokovi, bacanja (m-ž)'!$G$94:$G$101) -> 0 | N7: =SUM(D7:M7) -> 38 | O7: =C7+N7 -> 70
A8: 5 | B8: TJB | C8: 32 | D8: =SUMIF('Staza (ž)'!$F$23:$F$34,B8,'Staza (ž)'!$H$23:$H$34) -> 0 | E8: =SUMIF('Staza (ž)'!$F$38:$F$49,B8,'Staza (ž)'!$H$38:$H$49) -> 0 | F8: =SUMIF('Staza (ž)'!$F$53:$F$57,B8,'Staza (ž)'!$H$53:$H$57) -> 0 | G8: =SUMIF('Staza (ž)'!$F$79:$F$90,B8,'Staza (ž)'!$H$79:$H$90) -> 0 | H8: =SUMIF('Staza (ž)'!$F$94:$F$101,B8,'Staza (ž)'!$H$94:$H$101) -> 0 | I8: =SUMIF('Staza (ž)'!$F$105:$F$112,B8,'Staza (ž)'!$H$105:$H$112) -> 0 | J8: =SUMIF('Skokovi, bacanja (m-ž)'!$E$48:$E$60,B8,'Skokovi, bacanja (m-ž)'!$G$48:$G$60) -> 20 | K8: =SUMIF('Skokovi, bacanja (m-ž)'!$E$64:$E$75,B8,'Skokovi, bacanja (m-ž)'!$G$64:$G$75) -> 0 | L8: =SUMIF('Skokovi, bacanja (m-ž)'!$E$79:$E$90,B8,'Skokovi, bacanja (m-ž)'!$G$79:$G$90) -> 9 | M8: =SUMIF('Skokovi, bacanja (m-ž)'!$E$94:$E$101,B8,'Skokovi, bacanja (m-ž)'!$G$94:$G$101) -> 0 | N8: =SUM(D8:M8) -> 29 | O8: =C8+N8 -> 61
A9: 6 | B9: ČAČ | C9: 23 | D9: =SUMIF('Staza (ž)'!$F$23:$F$34,B9,'Staza (ž)'!$H$23:$H$34) -> 12 | E9: =SUMIF('Staza (ž)'!$F$38:$F$49,B9,'Staza (ž)'!$H$38:$H$49) -> 0 | F9: =SUMIF('Staza (ž)'!$F$53:$F$57,B9,'Staza (ž)'!$H$53:$H$57) -> 12 | G9: =SUMIF('Staza (ž)'!$F$79:$F$90,B9,'Staza (ž)'!$H$79:$H$90) -> 0 | H9: =SUMIF('Staza (ž)'!$F$94:$F$101,B9,'Staza (ž)'!$H$94:$H$101) -> 0 | I9: =SUMIF('Staza (ž)'!$F$105:$F$112,B9,'Staza (ž)'!$H$105:$H$112) -> 0 | J9: =SUMIF('Skokovi, bacanja (m-ž)'!$E$48:$E$60,B9,'Skokovi, bacanja (m-ž)'!$G$48:$G$60) -> 0 | K9: =SUMIF('Skokovi, bacanja (m-ž)'!$E$64:$E$75,B9,'Skokovi, bacanja (m-ž)'!$G$64:$G$75) -> 0 | L9: =SUMIF('Skokovi, bacanja (m-ž)'!$E$79:$E$90,B9,'Skokovi, bacanja (m-ž)'!$G$79:$G$90) -> 0 | M9: =SUMIF('Skokovi, bacanja (m-ž)'!$E$94:$E$101,B9,'Skokovi, bacanja (m-ž)'!$G$94:$G$101) -> 0 | N9: =SUM(D9:M9) -> 24 | O9: =C9+N9 -> 47
A10: 7 | B10: POŽ | C10: 23 | D10: =SUMIF('Staza (ž)'!$F$23:$F$34,B10,'Staza (ž)'!$H$23:$H$34) -> 0 | E10: =SUMIF('Staza (ž)'!$F$38:$F$49,B10,'Staza (ž)'!$H$38:$H$49) -> 21 | F10: =SUMIF('Staza (ž)'!$F$53:$F$57,B10,'Staza (ž)'!$H$53:$H$57) -> 0 | G10: =SUMIF('Staza (ž)'!$F$79:$F$90,B10,'Staza (ž)'!$H$79:$H$90) -> 0 | H10: =SUMIF('Staza (ž)'!$F$94:$F$101,B10,'Staza (ž)'!$H$94:$H$101) -> 0 | I10: =SUMIF('Staza (ž)'!$F$105:$F$112,B10,'Staza (ž)'!$H$105:$H$112) -> 0 | J10: =SUMIF('Skokovi, bacanja (m-ž)'!$E$48:$E$60,B10,'Skokovi, bacanja (m-ž)'!$G$48:$G$60) -> 0 | K10: =SUMIF('Skokovi, bacanja (m-ž)'!$E$64:$E$75,B10,'Skokovi, bacanja (m-ž)'!$G$64:$G$75) -> 0 | L10: =SUMIF('Skokovi, bacanja (m-ž)'!$E$79:$E$90,B10,'Skokovi, bacanja (m-ž)'!$G$79:$G$90) -> 0 | M10: =SUMIF('Skokovi, bacanja (m-ž)'!$E$94:$E$101,B10,'Skokovi, bacanja (m-ž)'!$G$94:$G$101) -> 0 | N10: =SUM(D10:M10) -> 21 | O10: =C10+N10 -> 44
A11: 8 | B11: BNZ | C11: 17 | D11: =SUMIF('Staza (ž)'!$F$23:$F$34,B11,'Staza (ž)'!$H$23:$H$34) -> 0 | E11: =SUMIF('Staza (ž)'!$F$38:$F$49,B11,'Staza (ž)'!$H$38:$H$49) -> 11 | F11: =SUMIF('Staza (ž)'!$F$53:$F$57,B11,'Staza (ž)'!$H$53:$H$57) -> 0 | G11: =SUMIF('Staza (ž)'!$F$79:$F$90,B11,'Staza (ž)'!$H$79:$H$90) -> 0 | H11: =SUMIF('Staza (ž)'!$F$94:$F$101,B11,'Staza (ž)'!$H$94:$H$101) -> 0 | I11: =SUMIF('Staza (ž)'!$F$105:$F$112,B11,'Staza (ž)'!$H$105:$H$112) -> 0 | J11: =SUMIF('Skokovi, bacanja (m-ž)'!$E$48:$E$60,B11,'Skokovi, bacanja (m-ž)'!$G$48:$G$60) -> 5 | K11: =SUMIF('Skokovi, bacanja (m-ž)'!$E$64:$E$75,B11,'Skokovi, bacanja (m-ž)'!$G$64:$G$75) -> 0 | L11: =SUMIF('Skokovi, bacanja (m-ž)'!$E$79:$E$90,B11,'Skokovi, bacanja (m-ž)'!$G$79:$G$90) -> 11 | M11: =SUMIF('Skokovi, bacanja (m-ž)'!$E$94:$E$101,B11,'Skokovi, bacanja (m-ž)'!$G$94:$G$101) -> 0 | N11: =SUM(D11:M11) -> 27 | O11: =C11+N11 -> 44
A12: 9 | B12: ASZ | C12: 26 | D12: =SUMIF('Staza (ž)'!$F$23:$F$34,B12,'Staza (ž)'!$H$23:$H$34) -> 11 | E12: =SUMIF('Staza (ž)'!$F$38:$F$49,B12,'Staza (ž)'!$H$38:$H$49) -> 0 | F12: =SUMIF('Staza (ž)'!$F$53:$F$57,B12,'Staza (ž)'!$H$53:$H$57) -> 0 | G12: =SUMIF('Staza (ž)'!$F$79:$F$90,B12,'Staza (ž)'!$H$79:$H$90) -> 0 | H12: =SUMIF('Staza (ž)'!$F$94:$F$101,B12,'Staza (ž)'!$H$94:$H$101) -> 0 | I12: =SUMIF('Staza (ž)'!$F$105:$F$112,B12,'Staza (ž)'!$H$105:$H$112) -> 0 | J12: =SUMIF('Skokovi, bacanja (m-ž)'!$E$48:$E$60,B12,'Skokovi, bacanja (m-ž)'!$G$48:$G$60) -> 0 | K12: =SUMIF('Skokovi, bacanja (m-ž)'!$E$64:$E$75,B12,'Skokovi, bacanja (m-ž)'!$G$64:$G$75) -> 7 | L12: =SUMIF('Skokovi, bacanja (m-ž)'!$E$79:$E$90,B12,'Skokovi, bacanja (m-ž)'!$G$79:$G$90) -> 0 | M12: =SUMIF('Skokovi, bacanja (m-ž)'!$E$94:$E$101,B12,'Skokovi, bacanja (m-ž)'!$G$94:$G$101) -> 0 | N12: =SUM(D12:M12) -> 18 | O12: =C12+N12 -> 44
A13: 10 | B13: NBG | C13: 10 | D13: =SUMIF('Staza (ž)'!$F$23:$F$34,B13,'Staza (ž)'!$H$23:$H$34) -> 0 | E13: =SUMIF('Staza (ž)'!$F$38:$F$49,B13,'Staza (ž)'!$H$38:$H$49) -> 0 | F13: =SUMIF('Staza (ž)'!$F$53:$F$57,B13,'Staza (ž)'!$H$53:$H$57) -> 0 | G13: =SUMIF('Staza (ž)'!$F$79:$F$90,B13,'Staza (ž)'!$H$79:$H$90) -> 12 | H13: =SUMIF('Staza (ž)'!$F$94:$F$101,B13,'Staza (ž)'!$H$94:$H$101) -> 0 | I13: =SUMIF('Staza (ž)'!$F$105:$F$112,B13,'Staza (ž)'!$H$105:$H$112) -> 0 | J13: =SUMIF('Skokovi, bacanja (m-ž)'!$E$48:$E$60,B13,'Skokovi, bacanja (m-ž)'!$G$48:$G$60) -> 10 | K13: =SUMIF('Skokovi, bacanja (m-ž)'!$E$64:$E$75,B13,'Skokovi, bacanja (m-ž)'!$G$64:$G$75) -> 0 | L13: =SUMIF('Skokovi, bacanja (m-ž)'!$E$79:$E$90,B13,'Skokovi, bacanja (m-ž)'!$G$79:$G$90) -> 6 | M13: =SUMIF('Skokovi, bacanja (m-ž)'!$E$94:$E$101,B13,'Skokovi, bacanja (m-ž)'!$G$94:$G$101) -> 0 | N13: =SUM(D13:M13) -> 28 | O13: =C13+N13 -> 38
A14: 11 | B14: MOĆ | C14: 16 | D14: =SUMIF('Staza (ž)'!$F$23:$F$34,B14,'Staza (ž)'!$H$23:$H$34) -> 0 | E14: =SUMIF('Staza (ž)'!$F$38:$F$49,B14,'Staza (ž)'!$H$38:$H$49) -> 0 | F14: =SUMIF('Staza (ž)'!$F$53:$F$57,B14,'Staza (ž)'!$H$53:$H$57) -> 19 | G14: =SUMIF('Staza (ž)'!$F$79:$F$90,B14,'Staza (ž)'!$H$79:$H$90) -> 0 | H14: =SUMIF('Staza (ž)'!$F$94:$F$101,B14,'Staza (ž)'!$H$94:$H$101) -> 0 | I14: =SUMIF('Staza (ž)'!$F$105:$F$112,B14,'Staza (ž)'!$H$105:$H$112) -> 0 | J14: =SUMIF('Skokovi, bacanja (m-ž)'!$E$48:$E$60,B14,'Skokovi, bacanja (m-ž)'!$G$48:$G$60) -> 0 | K14: =SUMIF('Skokovi, bacanja (m-ž)'!$E$64:$E$75,B14,'Skokovi, bacanja (m-ž)'!$G$64:$G$75) -> 0 | L14: =SUMIF('Skokovi, bacanja (m-ž)'!$E$79:$E$90,B14,'Skokovi, bacanja (m-ž)'!$G$79:$G$90) -> 0 | M14: =SUMIF('Skokovi, bacanja (m-ž)'!$E$94:$E$101,B14,'Skokovi, bacanja (m-ž)'!$G$94:$G$101) -> 0 | N14: =SUM(D14:M14) -> 19 | O14: =C14+N14 -> 35
A15: 12 | B15: KRA | C15: 11 | D15: =SUMIF('Staza (ž)'!$F$23:$F$34,B15,'Staza (ž)'!$H$23:$H$34) -> 0 | E15: =SUMIF('Staza (ž)'!$F$38:$F$49,B15,'Staza (ž)'!$H$38:$H$49) -> 0 | F15: =SUMIF('Staza (ž)'!$F$53:$F$57,B15,'Staza (ž)'!$H$53:$H$57) -> 0 | G15: =SUMIF('Staza (ž)'!$F$79:$F$90,B15,'Staza (ž)'!$H$79:$H$90) -> 4 | H15: =SUMIF('Staza (ž)'!$F$94:$F$101,B15,'Staza (ž)'!$H$94:$H$101) -> 0 | I15: =SUMIF('Staza (ž)'!$F$105:$F$112,B15,'Staza (ž)'!$H$105:$H$112) -> 0 | J15: =SUMIF('Skokovi, bacanja (m-ž)'!$E$48:$E$60,B15,'Skokovi, bacanja (m-ž)'!$G$48:$G$60) -> 7 | K15: =SUMIF('Skokovi, bacanja (m-ž)'!$E$64:$E$75,B15,'Skokovi, bacanja (m-ž)'!$G$64:$G$75) -> 0 | L15: =SUMIF('Skokovi, bacanja (m-ž)'!$E$79:$E$90,B15,'Skokovi, bacanja (m-ž)'!$G$79:$G$90) -> 0 | M15: =SUMIF('Skokovi, bacanja (m-ž)'!$E$94:$E$101,B15,'Skokovi, bacanja (m-ž)'!$G$94:$G$101) -> 9 | N15: =SUM(D15:M15) -> 20 | O15: =C15+N15 -> 31
... A42: 39 | B42: SUR | C42: 0 | D42: =SUMIF('Staza (ž)'!$F$23:$F$34,B42,'Staza (ž)'!$H$23:$H$34) -> 0 | E42: =SUMIF('Staza (ž)'!$F$38:$F$49,B42,'Staza (ž)'!$H$38:$H$49) -> 0 | F42: =SUMIF('Staza (ž)'!$F$53:$F$57,B42,'Staza (ž)'!$H$53:$H$57) -> 0 | G42: =SUMIF('Staza (ž)'!$F$79:$F$90,B42,'Staza (ž)'!$H$79:$H$90) -> 0 | H42: =SUMIF('Staza (ž)'!$F$94:$F$101,B42,'Staza (ž)'!$H$94:$H$101) -> 0 | I42: =SUMIF('Staza (ž)'!$F$105:$F$112,B42,'Staza (ž)'!$H$105:$H$112) -> 0 | J42: =SUMIF('Skokovi, bacanja (m-ž)'!$E$48:$E$60,B42,'Skokovi, bacanja (m-ž)'!$G$48:$G$60) -> 0 | K42: =SUMIF('Skokovi, bacanja (m-ž)'!$E$64:$E$75,B42,'Skokovi, bacanja (m-ž)'!$G$64:$G$75) -> 0 | L42: =SUMIF('Skokovi, bacanja (m-ž)'!$E$79:$E$90,B42,'Skokovi, bacanja (m-ž)'!$G$79:$G$90) -> 0 | M42: =SUMIF('Skokovi, bacanja (m-ž)'!$E$94:$E$101,B42,'Skokovi, bacanja (m-ž)'!$G$94:$G$101) -> 0 | N42: =SUM(D42:M42) -> 0 | O42: =C42+N42 -> 0
